Name | Last modified | Size | Description | |
---|---|---|---|---|
Parent Directory | - | |||
buildsrc-out.txt | 17-Apr-2024 03:51 | 825 | ||
buildsrc-summary.dcf | 17-Apr-2024 03:51 | 437 | ||
checksrc-out.txt | 17-Apr-2024 03:51 | 3.2K | ||
checksrc-summary.dcf | 17-Apr-2024 03:51 | 441 | ||
install-out.txt | 17-Apr-2024 03:51 | 891 | ||
install-summary.dcf | 17-Apr-2024 03:51 | 272 | ||