Name | Last modified | Size | Description | |
---|---|---|---|---|
Parent Directory | - | |||
buildsrc-out.txt | 17-Apr-2024 03:51 | 841 | ||
buildsrc-summary.dcf | 17-Apr-2024 03:51 | 449 | ||
install-out.txt | 17-Apr-2024 03:51 | 903 | ||
install-summary.dcf | 17-Apr-2024 03:51 | 280 | ||
checksrc-out.txt | 17-Apr-2024 03:51 | 2.6K | ||
checksrc-summary.dcf | 17-Apr-2024 03:51 | 456 | ||