Name | Last modified | Size | Description | |
---|---|---|---|---|
Parent Directory | - | |||
buildsrc-out.txt | 17-Apr-2024 03:51 | 834 | ||
buildsrc-summary.dcf | 17-Apr-2024 03:51 | 437 | ||
checksrc-out.txt | 17-Apr-2024 03:51 | 2.7K | ||
checksrc-summary.dcf | 17-Apr-2024 03:51 | 441 | ||
install-out.txt | 17-Apr-2024 03:51 | 968 | ||
install-summary.dcf | 17-Apr-2024 03:51 | 272 | ||