Name | Last modified | Size | Description | |
---|---|---|---|---|
Parent Directory | - | |||
buildsrc-out.txt | 17-Apr-2024 03:51 | 829 | ||
buildsrc-summary.dcf | 17-Apr-2024 03:51 | 441 | ||
checksrc-out.txt | 17-Apr-2024 03:51 | 39K | ||
checksrc-summary.dcf | 17-Apr-2024 03:51 | 452 | ||
install-out.txt | 17-Apr-2024 03:51 | 952 | ||
install-summary.dcf | 17-Apr-2024 03:51 | 275 | ||