Index of /checkResults/3.18/data-experiment-LATEST/geneLenDataBase/raw-results

[ICO]NameLast modifiedSizeDescription

[DIR]Parent Directory  -  
[DIR]nebbiolo2/23-Feb-2024 04:52 -  
[   ]info.dcf23-Feb-2024 04:52 329