Name | Last modified | Size | Description | |
---|---|---|---|---|
Parent Directory | - | |||
buildsrc-out.txt | 17-Apr-2024 03:51 | 801 | ||
buildsrc-summary.dcf | 17-Apr-2024 03:51 | 419 | ||
checksrc-out.txt | 17-Apr-2024 03:51 | 2.7K | ||
checksrc-summary.dcf | 17-Apr-2024 03:51 | 417 | ||
install-out.txt | 17-Apr-2024 03:51 | 873 | ||
install-summary.dcf | 17-Apr-2024 03:51 | 260 | ||