Name | Last modified | Size | Description | |
---|---|---|---|---|
Parent Directory | - | |||
buildsrc-out.txt | 17-Apr-2024 03:51 | 869 | ||
buildsrc-summary.dcf | 17-Apr-2024 03:51 | 417 | ||
checksrc-out.txt | 17-Apr-2024 03:51 | 2.9K | ||
checksrc-summary.dcf | 17-Apr-2024 03:51 | 413 | ||
install-out.txt | 17-Apr-2024 03:51 | 902 | ||
install-summary.dcf | 17-Apr-2024 03:51 | 259 | ||