Name | Last modified | Size | Description | |
---|---|---|---|---|
Parent Directory | - | |||
install-summary.dcf | 17-Apr-2024 03:51 | 278 | ||
install-out.txt | 17-Apr-2024 03:51 | 1.0K | ||
checksrc-summary.dcf | 17-Apr-2024 03:51 | 453 | ||
checksrc-out.txt | 17-Apr-2024 03:51 | 3.3K | ||
buildsrc-summary.dcf | 17-Apr-2024 03:51 | 447 | ||
buildsrc-out.txt | 17-Apr-2024 03:51 | 886 | ||