Back to Build/check report for BioC 3.18 experimental data
AB[C]DEFGHIJKLMNOPQRSTUVWXYZ

This page was generated on 2023-09-21 14:51:52 -0400 (Thu, 21 Sep 2023).

HostnameOSArch (*)R versionInstalled pkgs
nebbiolo2Linux (Ubuntu 22.04.2 LTS)x86_644.3.1 (2023-06-16) -- "Beagle Scouts" 4654
Click on any hostname to see more info about the system (e.g. compilers)      (*) as reported by 'uname -p', except on Windows and Mac OS X

All results for package chipenrich.data


To the developers/maintainers of the chipenrich.data package:
- Use the following Renviron settings to reproduce errors and warnings.
- If 'R CMD check' started to fail recently on the Linux builder(s) over a missing dependency, add the missing dependency to 'Suggests:' in your DESCRIPTION file. See Renviron.bioc for more information.

raw results

Package 55/424HostnameOS / ArchINSTALLBUILDCHECK
chipenrich.data 2.25.0  (landing page)
Kai Wang
Snapshot Date: 2023-09-21 07:30:02 -0400 (Thu, 21 Sep 2023)
git_url: https://git.bioconductor.org/packages/chipenrich.data
git_branch: devel
git_last_commit: 5f31dda
git_last_commit_date: 2023-08-30 14:25:55 -0400 (Wed, 30 Aug 2023)
nebbiolo2Linux (Ubuntu 22.04.2 LTS) / x86_64  OK    OK    WARNINGS  UNNEEDED, same version is already published