Name | Last modified | Size | Description | |
---|---|---|---|---|
Parent Directory | - | |||
install-summary.dcf | 17-Apr-2024 03:51 | 256 | ||
buildsrc-summary.dcf | 17-Apr-2024 03:51 | 414 | ||
checksrc-summary.dcf | 17-Apr-2024 03:51 | 416 | ||
buildsrc-out.txt | 17-Apr-2024 03:51 | 793 | ||
install-out.txt | 17-Apr-2024 03:51 | 925 | ||
checksrc-out.txt | 17-Apr-2024 03:51 | 3.3K | ||