Name | Last modified | Size | Description | |
---|---|---|---|---|
Parent Directory | - | |||
buildsrc-summary.dcf | 17-Apr-2024 03:51 | 431 | ||
install-out.txt | 17-Apr-2024 03:51 | 909 | ||
install-summary.dcf | 17-Apr-2024 03:51 | 268 | ||
buildsrc-out.txt | 17-Apr-2024 03:51 | 1.0K | ||
checksrc-out.txt | 17-Apr-2024 03:51 | 3.3K | ||
checksrc-summary.dcf | 17-Apr-2024 03:51 | 439 | ||