Name | Last modified | Size | Description | |
---|---|---|---|---|
Parent Directory | - | |||
install-summary.dcf | 17-Apr-2024 03:51 | 284 | ||
buildsrc-summary.dcf | 17-Apr-2024 03:51 | 454 | ||
checksrc-summary.dcf | 17-Apr-2024 03:51 | 464 | ||
buildsrc-out.txt | 17-Apr-2024 03:51 | 857 | ||
install-out.txt | 17-Apr-2024 03:51 | 1.0K | ||
checksrc-out.txt | 17-Apr-2024 03:51 | 3.3K | ||