Name | Last modified | Size | Description | |
---|---|---|---|---|
Parent Directory | - | |||
install-summary.dcf | 17-Apr-2024 03:51 | 263 | ||
buildsrc-summary.dcf | 17-Apr-2024 03:51 | 423 | ||
checksrc-summary.dcf | 17-Apr-2024 03:51 | 428 | ||
buildsrc-out.txt | 17-Apr-2024 03:51 | 1.1K | ||
install-out.txt | 17-Apr-2024 03:51 | 1.1K | ||
checksrc-out.txt | 17-Apr-2024 03:51 | 4.2K | ||