Name | Last modified | Size | Description | |
---|---|---|---|---|
Parent Directory | - | |||
install-summary.dcf | 17-Apr-2024 03:51 | 280 | ||
install-out.txt | 17-Apr-2024 03:51 | 1.0K | ||
checksrc-summary.dcf | 17-Apr-2024 03:51 | 458 | ||
checksrc-out.txt | 17-Apr-2024 03:51 | 4.2K | ||
buildsrc-summary.dcf | 17-Apr-2024 03:51 | 448 | ||
buildsrc-out.txt | 17-Apr-2024 03:51 | 846 | ||