Name | Last modified | Size | Description | |
---|---|---|---|---|
Parent Directory | - | |||
checksrc-out.txt | 17-Apr-2024 03:51 | 2.9K | ||
install-out.txt | 17-Apr-2024 03:51 | 947 | ||
buildsrc-out.txt | 17-Apr-2024 03:51 | 889 | ||
checksrc-summary.dcf | 17-Apr-2024 03:51 | 505 | ||
buildsrc-summary.dcf | 17-Apr-2024 03:51 | 485 | ||
install-summary.dcf | 17-Apr-2024 03:51 | 304 | ||