Name | Last modified | Size | Description | |
---|---|---|---|---|
Parent Directory | - | |||
buildsrc-out.txt | 17-Apr-2024 03:51 | 873 | ||
buildsrc-summary.dcf | 17-Apr-2024 03:51 | 420 | ||
checksrc-out.txt | 17-Apr-2024 03:51 | 5.6K | ||
checksrc-summary.dcf | 17-Apr-2024 03:51 | 418 | ||
install-out.txt | 17-Apr-2024 03:51 | 963 | ||
install-summary.dcf | 17-Apr-2024 03:51 | 261 | ||