Name | Last modified | Size | Description | |
---|---|---|---|---|
Parent Directory | - | |||
install-summary.dcf | 17-Apr-2024 03:51 | 266 | ||
install-out.txt | 17-Apr-2024 03:51 | 940 | ||
checksrc-summary.dcf | 17-Apr-2024 03:51 | 429 | ||
checksrc-out.txt | 17-Apr-2024 03:51 | 3.0K | ||
buildsrc-summary.dcf | 17-Apr-2024 03:51 | 425 | ||
buildsrc-out.txt | 17-Apr-2024 03:51 | 790 | ||