Index of /checkResults/3.18/data-experiment-LATEST/MerfishData/raw-results/nebbiolo2

[ICO]NameLast modifiedSizeDescription

[DIR]Parent Directory  -  
[   ]checksrc-summary.dcf17-Apr-2024 03:51 429  
[TXT]checksrc-out.txt17-Apr-2024 03:51 3.9K 
[   ]buildsrc-summary.dcf17-Apr-2024 03:51 428  
[TXT]buildsrc-out.txt17-Apr-2024 03:51 861  
[   ]install-summary.dcf17-Apr-2024 03:51 266  
[TXT]install-out.txt17-Apr-2024 03:51 964