Index of /checkResults/3.18/data-experiment-LATEST/MOFAdata/raw-results

[ICO]NameLast modifiedSizeDescription

[DIR]Parent Directory  -  
[   ]info.dcf01-Mar-2024 04:52 277  
[DIR]nebbiolo2/01-Mar-2024 04:52 -