Name | Last modified | Size | Description | |
---|---|---|---|---|
Parent Directory | - | |||
buildsrc-out.txt | 17-Apr-2024 03:51 | 1.1K | ||
buildsrc-summary.dcf | 17-Apr-2024 03:51 | 489 | ||
checksrc-out.txt | 17-Apr-2024 03:51 | 3.0K | ||
checksrc-summary.dcf | 17-Apr-2024 03:51 | 516 | ||
install-out.txt | 17-Apr-2024 03:51 | 1.0K | ||
install-summary.dcf | 17-Apr-2024 03:51 | 308 | ||