Name | Last modified | Size | Description | |
---|---|---|---|---|
Parent Directory | - | |||
install-summary.dcf | 17-Apr-2024 03:51 | 264 | ||
install-out.txt | 17-Apr-2024 03:51 | 961 | ||
checksrc-summary.dcf | 17-Apr-2024 03:51 | 432 | ||
checksrc-out.txt | 17-Apr-2024 03:51 | 4.1K | ||
buildsrc-summary.dcf | 17-Apr-2024 03:51 | 427 | ||
buildsrc-out.txt | 17-Apr-2024 03:51 | 881 | ||