Name | Last modified | Size | Description | |
---|---|---|---|---|
Parent Directory | - | |||
install-summary.dcf | 17-Apr-2024 03:51 | 262 | ||
install-out.txt | 17-Apr-2024 03:51 | 934 | ||
checksrc-summary.dcf | 17-Apr-2024 03:51 | 421 | ||
checksrc-out.txt | 17-Apr-2024 03:51 | 3.4K | ||
buildsrc-summary.dcf | 17-Apr-2024 03:51 | 422 | ||
buildsrc-out.txt | 17-Apr-2024 03:51 | 805 | ||