Name | Last modified | Size | Description | |
---|---|---|---|---|
Parent Directory | - | |||
install-summary.dcf | 17-Apr-2024 03:51 | 259 | ||
install-out.txt | 17-Apr-2024 03:51 | 929 | ||
checksrc-summary.dcf | 17-Apr-2024 03:51 | 419 | ||
checksrc-out.txt | 17-Apr-2024 03:51 | 3.6K | ||
buildsrc-summary.dcf | 17-Apr-2024 03:51 | 417 | ||
buildsrc-out.txt | 17-Apr-2024 03:51 | 806 | ||