Name | Last modified | Size | Description | |
---|---|---|---|---|
Parent Directory | - | |||
checksrc-out.txt | 17-Apr-2024 03:51 | 3.4K | ||
install-out.txt | 17-Apr-2024 03:51 | 1.0K | ||
buildsrc-out.txt | 17-Apr-2024 03:51 | 842 | ||
checksrc-summary.dcf | 17-Apr-2024 03:51 | 450 | ||
buildsrc-summary.dcf | 17-Apr-2024 03:51 | 444 | ||
install-summary.dcf | 17-Apr-2024 03:51 | 277 | ||