Back to Build/check report for BioC 3.18 experimental data
ABC[D]EFGHIJKLMNOPQRSTUVWXYZ

This page was generated on 2023-09-26 14:51:50 -0400 (Tue, 26 Sep 2023).

HostnameOSArch (*)R versionInstalled pkgs
nebbiolo2Linux (Ubuntu 22.04.2 LTS)x86_644.3.1 (2023-06-16) -- "Beagle Scouts" 4659
Click on any hostname to see more info about the system (e.g. compilers)      (*) as reported by 'uname -p', except on Windows and Mac OS X

All results for package DmelSGI


To the developers/maintainers of the DmelSGI package:
- Use the following Renviron settings to reproduce errors and warnings.
- If 'R CMD check' started to fail recently on the Linux builder(s) over a missing dependency, add the missing dependency to 'Suggests:' in your DESCRIPTION file. See Renviron.bioc for more information.

raw results

Package 96/424HostnameOS / ArchINSTALLBUILDCHECK
DmelSGI 1.33.0  (landing page)
Mike Smith
Snapshot Date: 2023-09-26 07:30:02 -0400 (Tue, 26 Sep 2023)
git_url: https://git.bioconductor.org/packages/DmelSGI
git_branch: devel
git_last_commit: 22883f5
git_last_commit_date: 2023-04-25 10:37:38 -0400 (Tue, 25 Apr 2023)
nebbiolo2Linux (Ubuntu 22.04.2 LTS) / x86_64  OK    OK    OK  UNNEEDED, same version is already published