Back to Build/check report for BioC 3.18 experimental data
ABC[D]EFGHIJKLMNOPQRSTUVWXYZ

This page was generated on 2023-09-19 14:51:50 -0400 (Tue, 19 Sep 2023).

HostnameOSArch (*)R versionInstalled pkgs
nebbiolo2Linux (Ubuntu 22.04.2 LTS)x86_644.3.1 (2023-06-16) -- "Beagle Scouts" 4654
Click on any hostname to see more info about the system (e.g. compilers)      (*) as reported by 'uname -p', except on Windows and Mac OS X

All results for package DMRcatedata


To the developers/maintainers of the DMRcatedata package:
- Use the following Renviron settings to reproduce errors and warnings.
- If 'R CMD check' started to fail recently on the Linux builder(s) over a missing dependency, add the missing dependency to 'Suggests:' in your DESCRIPTION file. See Renviron.bioc for more information.

raw results

Package 97/424HostnameOS / ArchINSTALLBUILDCHECK
DMRcatedata 2.19.0  (landing page)
Tim Peters
Snapshot Date: 2023-09-19 07:30:02 -0400 (Tue, 19 Sep 2023)
git_url: https://git.bioconductor.org/packages/DMRcatedata
git_branch: devel
git_last_commit: 08fd31d
git_last_commit_date: 2023-04-25 10:35:14 -0400 (Tue, 25 Apr 2023)
nebbiolo2Linux (Ubuntu 22.04.2 LTS) / x86_64  OK    OK    OK  UNNEEDED, same version is already published