Name | Last modified | Size | Description | |
---|---|---|---|---|
Parent Directory | - | |||
install-summary.dcf | 17-Apr-2024 03:51 | 279 | ||
install-out.txt | 17-Apr-2024 03:51 | 932 | ||
checksrc-summary.dcf | 17-Apr-2024 03:51 | 455 | ||
checksrc-out.txt | 17-Apr-2024 03:51 | 3.4K | ||
buildsrc-summary.dcf | 17-Apr-2024 03:51 | 448 | ||
buildsrc-out.txt | 17-Apr-2024 03:51 | 909 | ||