Index of /checkResults/3.18/data-experiment-LATEST/CLLmethylation/raw-results

[ICO]NameLast modifiedSizeDescription

[DIR]Parent Directory  -  
[   ]info.dcf08-Dec-2023 04:52 333  
[DIR]nebbiolo2/08-Dec-2023 04:52 -