Index of /checkResults/3.18/data-experiment-LATEST/ALLMLL/raw-results
Name
Last modified
Size
Description
Parent Directory
-
info.dcf
17-Apr-2024 03:51
267
nebbiolo2/
17-Apr-2024 03:51
-