Name | Last modified | Size | Description | |
---|---|---|---|---|
Parent Directory | - | |||
buildsrc-out.txt | 17-Apr-2024 21:30 | 865 | ||
buildsrc-summary.dcf | 17-Apr-2024 21:30 | 482 | ||
checksrc-out.txt | 17-Apr-2024 21:30 | 2.7K | ||
checksrc-summary.dcf | 17-Apr-2024 21:30 | 503 | ||
install-out.txt | 17-Apr-2024 21:30 | 939 | ||
install-summary.dcf | 17-Apr-2024 21:30 | 304 | ||