Name | Last modified | Size | Description | |
---|---|---|---|---|
Parent Directory | - | |||
checksrc-out.txt | 17-Apr-2024 21:30 | 3.3K | ||
install-out.txt | 17-Apr-2024 21:30 | 961 | ||
buildsrc-out.txt | 17-Apr-2024 21:30 | 858 | ||
checksrc-summary.dcf | 17-Apr-2024 21:30 | 425 | ||
buildsrc-summary.dcf | 17-Apr-2024 21:30 | 424 | ||
install-summary.dcf | 17-Apr-2024 21:30 | 264 | ||