Name | Last modified | Size | Description | |
---|---|---|---|---|
Parent Directory | - | |||
install-summary.dcf | 17-Apr-2024 21:30 | 275 | ||
install-out.txt | 17-Apr-2024 21:30 | 1.0K | ||
checksrc-summary.dcf | 17-Apr-2024 21:30 | 446 | ||
checksrc-out.txt | 17-Apr-2024 21:30 | 3.2K | ||
buildsrc-summary.dcf | 17-Apr-2024 21:30 | 441 | ||
buildsrc-out.txt | 17-Apr-2024 21:30 | 878 | ||