Index of /checkResults/3.18/books-LATEST/csawBook/raw-results
Name
Last modified
Size
Description
Parent Directory
-
info.dcf
18-Apr-2024 03:00
291
nebbiolo2/
18-Apr-2024 03:00
-