Name | Last modified | Size | Description | |
---|---|---|---|---|
Parent Directory | - | |||
install-summary.dcf | 19-Apr-2024 00:32 | 303 | ||
install-out.txt | 19-Apr-2024 00:32 | 1.1K | ||
checksrc-summary.dcf | 19-Apr-2024 00:32 | 512 | ||
checksrc-out.txt | 19-Apr-2024 00:32 | 4.1K | ||
buildsrc-summary.dcf | 19-Apr-2024 00:32 | 478 | ||
buildsrc-out.txt | 19-Apr-2024 00:32 | 921 | ||
buildbin-summary.dcf | 16-Apr-2024 00:32 | 632 | ||
buildbin-out.txt | 16-Apr-2024 00:32 | 1.4K | ||