Name | Last modified | Size | Description | |
---|---|---|---|---|
Parent Directory | - | |||
buildbin-out.txt | 19-Apr-2024 00:32 | 1.2K | ||
buildbin-summary.dcf | 19-Apr-2024 00:32 | 550 | ||
buildsrc-out.txt | 19-Apr-2024 00:32 | 871 | ||
buildsrc-summary.dcf | 19-Apr-2024 00:32 | 435 | ||
checksrc-out.txt | 19-Apr-2024 00:32 | 3.3K | ||
checksrc-summary.dcf | 19-Apr-2024 00:32 | 457 | ||
install-out.txt | 19-Apr-2024 00:32 | 1.0K | ||
install-summary.dcf | 19-Apr-2024 00:32 | 275 | ||