Name | Last modified | Size | Description | |
---|---|---|---|---|
Parent Directory | - | |||
install-summary.dcf | 19-Apr-2024 00:32 | 271 | ||
install-out.txt | 19-Apr-2024 00:32 | 1.0K | ||
checksrc-summary.dcf | 19-Apr-2024 00:32 | 448 | ||
checksrc-out.txt | 19-Apr-2024 00:32 | 3.5K | ||
buildsrc-summary.dcf | 19-Apr-2024 00:32 | 431 | ||
buildsrc-out.txt | 19-Apr-2024 00:32 | 860 | ||
buildbin-summary.dcf | 19-Apr-2024 00:32 | 536 | ||
buildbin-out.txt | 19-Apr-2024 00:32 | 1.2K | ||