Name | Last modified | Size | Description | |
---|---|---|---|---|
Parent Directory | - | |||
buildbin-summary.dcf | 19-Apr-2024 00:32 | 542 | ||
buildbin-out.txt | 19-Apr-2024 00:32 | 1.2K | ||
checksrc-summary.dcf | 19-Apr-2024 00:32 | 452 | ||
checksrc-out.txt | 19-Apr-2024 00:32 | 3.1K | ||
buildsrc-summary.dcf | 19-Apr-2024 00:32 | 433 | ||
buildsrc-out.txt | 19-Apr-2024 00:32 | 824 | ||
install-summary.dcf | 19-Apr-2024 00:32 | 273 | ||
install-out.txt | 19-Apr-2024 00:32 | 1.0K | ||