Name | Last modified | Size | Description | |
---|---|---|---|---|
Parent Directory | - | |||
install-summary.dcf | 19-Apr-2024 00:32 | 286 | ||
buildsrc-summary.dcf | 19-Apr-2024 00:32 | 453 | ||
checksrc-summary.dcf | 19-Apr-2024 00:32 | 478 | ||
buildbin-summary.dcf | 19-Apr-2024 00:32 | 581 | ||
buildsrc-out.txt | 19-Apr-2024 00:32 | 914 | ||
install-out.txt | 19-Apr-2024 00:32 | 1.0K | ||
buildbin-out.txt | 19-Apr-2024 00:32 | 1.2K | ||
checksrc-out.txt | 19-Apr-2024 00:32 | 3.7K | ||