Name | Last modified | Size | Description | |
---|---|---|---|---|
Parent Directory | - | |||
buildbin-out.txt | 19-Apr-2024 00:32 | 1.1K | ||
buildbin-summary.dcf | 19-Apr-2024 00:32 | 532 | ||
buildsrc-out.txt | 19-Apr-2024 00:32 | 859 | ||
buildsrc-summary.dcf | 19-Apr-2024 00:32 | 427 | ||
checksrc-out.txt | 19-Apr-2024 00:32 | 3.5K | ||
checksrc-summary.dcf | 19-Apr-2024 00:32 | 445 | ||
install-out.txt | 19-Apr-2024 00:32 | 1.0K | ||
install-summary.dcf | 19-Apr-2024 00:32 | 269 | ||