Name | Last modified | Size | Description | |
---|---|---|---|---|
Parent Directory | - | |||
buildsrc-out.txt | 19-Apr-2024 00:32 | 819 | ||
buildsrc-summary.dcf | 19-Apr-2024 00:32 | 429 | ||
install-out.txt | 19-Apr-2024 00:32 | 1.0K | ||
install-summary.dcf | 19-Apr-2024 00:32 | 270 | ||
buildbin-out.txt | 19-Apr-2024 00:32 | 1.2K | ||
buildbin-summary.dcf | 19-Apr-2024 00:32 | 533 | ||
checksrc-out.txt | 19-Apr-2024 00:32 | 7.8K | ||
checksrc-summary.dcf | 19-Apr-2024 00:32 | 447 | ||