Name | Last modified | Size | Description | |
---|---|---|---|---|
Parent Directory | - | |||
install-summary.dcf | 19-Apr-2024 00:32 | 262 | ||
buildsrc-summary.dcf | 19-Apr-2024 00:32 | 418 | ||
checksrc-summary.dcf | 19-Apr-2024 00:32 | 437 | ||
buildbin-summary.dcf | 19-Apr-2024 00:32 | 511 | ||
buildsrc-out.txt | 19-Apr-2024 00:32 | 804 | ||
install-out.txt | 19-Apr-2024 00:32 | 1.1K | ||
buildbin-out.txt | 19-Apr-2024 00:32 | 1.2K | ||
checksrc-out.txt | 19-Apr-2024 00:32 | 4.3K | ||