Name | Last modified | Size | Description | |
---|---|---|---|---|
Parent Directory | - | |||
install-out.txt | 19-Apr-2024 00:32 | 254K | ||
install-summary.dcf | 19-Apr-2024 00:32 | 274 | ||
buildsrc-out.txt | 19-Apr-2024 00:32 | 965 | ||
buildsrc-summary.dcf | 19-Apr-2024 00:32 | 434 | ||
checksrc-out.txt | 19-Apr-2024 00:32 | 13K | ||
checksrc-summary.dcf | 19-Apr-2024 00:32 | 456 | ||
buildbin-out.txt | 19-Apr-2024 00:32 | 256K | ||
buildbin-summary.dcf | 19-Apr-2024 00:32 | 543 | ||