Name | Last modified | Size | Description | |
---|---|---|---|---|
Parent Directory | - | |||
buildbin-out.txt | 19-Apr-2024 00:32 | 4.2K | ||
buildbin-summary.dcf | 19-Apr-2024 00:32 | 557 | ||
buildsrc-out.txt | 19-Apr-2024 00:32 | 928 | ||
buildsrc-summary.dcf | 19-Apr-2024 00:32 | 441 | ||
checksrc-out.txt | 19-Apr-2024 00:32 | 3.9K | ||
checksrc-summary.dcf | 19-Apr-2024 00:32 | 462 | ||
install-out.txt | 19-Apr-2024 00:32 | 2.0K | ||
install-summary.dcf | 19-Apr-2024 00:32 | 278 | ||