Name | Last modified | Size | Description | |
---|---|---|---|---|
Parent Directory | - | |||
buildbin-out.txt | 19-Apr-2024 00:32 | 300K | ||
buildbin-summary.dcf | 19-Apr-2024 00:32 | 612 | ||
checksrc-summary.dcf | 19-Apr-2024 00:32 | 498 | ||
checksrc-out.txt | 19-Apr-2024 00:32 | 4.4K | ||
buildsrc-summary.dcf | 19-Apr-2024 00:32 | 468 | ||
buildsrc-out.txt | 19-Apr-2024 00:32 | 964 | ||
install-summary.dcf | 19-Apr-2024 00:32 | 297 | ||
install-out.txt | 19-Apr-2024 00:32 | 296K | ||