Index of /checkResults/3.18/bioc-mac-arm64-LATEST/dmrseq/raw-results

[ICO]NameLast modifiedSizeDescription

[DIR]Parent Directory  -  
[   ]info.dcf29-Mar-2024 00:32 271  
[DIR]kjohnson1/29-Mar-2024 00:32 -