Name | Last modified | Size | Description | |
---|---|---|---|---|
Parent Directory | - | |||
buildbin-summary.dcf | 19-Apr-2024 00:32 | 522 | ||
buildbin-out.txt | 19-Apr-2024 00:32 | 8.6K | ||
checksrc-summary.dcf | 19-Apr-2024 00:32 | 444 | ||
checksrc-out.txt | 19-Apr-2024 00:32 | 5.3K | ||
buildsrc-summary.dcf | 19-Apr-2024 00:32 | 422 | ||
buildsrc-out.txt | 19-Apr-2024 00:32 | 873 | ||
install-summary.dcf | 19-Apr-2024 00:32 | 266 | ||
install-out.txt | 19-Apr-2024 00:32 | 5.1K | ||