Index of /checkResults/3.18/bioc-mac-arm64-LATEST/YAPSA/raw-results/kjohnson1

[ICO]NameLast modifiedSizeDescription

[DIR]Parent Directory  -  
[TXT]buildbin-out.txt16-Apr-2024 00:32 1.1K 
[   ]buildbin-summary.dcf16-Apr-2024 00:32 518  
[TXT]buildsrc-out.txt19-Apr-2024 00:32 871  
[   ]buildsrc-summary.dcf19-Apr-2024 00:32 422  
[TXT]install-out.txt19-Apr-2024 00:32 1.0K 
[   ]install-summary.dcf19-Apr-2024 00:32 265  
[TXT]checksrc-out.txt19-Apr-2024 00:32 3.7K 
[   ]checksrc-summary.dcf19-Apr-2024 00:32 436