Name | Last modified | Size | Description | |
---|---|---|---|---|
Parent Directory | - | |||
checksrc-out.txt | 19-Apr-2024 00:32 | 4.4K | ||
buildbin-out.txt | 16-Apr-2024 00:32 | 1.5K | ||
install-out.txt | 19-Apr-2024 00:32 | 1.3K | ||
buildsrc-out.txt | 19-Apr-2024 00:32 | 875 | ||
buildbin-summary.dcf | 16-Apr-2024 00:32 | 524 | ||
checksrc-summary.dcf | 19-Apr-2024 00:32 | 446 | ||
buildsrc-summary.dcf | 19-Apr-2024 00:32 | 425 | ||
install-summary.dcf | 19-Apr-2024 00:32 | 267 | ||