Name | Last modified | Size | Description | |
---|---|---|---|---|
Parent Directory | - | |||
buildbin-out.txt | 19-Apr-2024 00:32 | 25K | ||
buildbin-summary.dcf | 19-Apr-2024 00:32 | 525 | ||
buildsrc-out.txt | 19-Apr-2024 00:32 | 930 | ||
buildsrc-summary.dcf | 19-Apr-2024 00:32 | 423 | ||
checksrc-out.txt | 19-Apr-2024 00:32 | 4.5K | ||
checksrc-summary.dcf | 19-Apr-2024 00:32 | 446 | ||
install-out.txt | 19-Apr-2024 00:32 | 22K | ||
install-summary.dcf | 19-Apr-2024 00:32 | 267 | ||