Index of /checkResults/3.18/bioc-mac-arm64-LATEST/Rbec/raw-results/kjohnson1
Name
Last modified
Size
Description
Parent Directory
-
buildsrc-out.txt
19-Apr-2024 00:32
8.0K
install-out.txt
19-Apr-2024 00:32
7.8K
buildsrc-summary.dcf
19-Apr-2024 00:32
337
install-summary.dcf
19-Apr-2024 00:32
266